BEGIN:VCALENDAR
VERSION:2.0
PRODID:-//CresFest | 2-4 April 2027 - ECPv6.10.2//NONSGML v1.0//EN
CALSCALE:GREGORIAN
METHOD:PUBLISH
X-WR-CALNAME:CresFest | 2-4 April 2027
X-ORIGINAL-URL:https://cresfest.com.au
X-WR-CALDESC:Events for CresFest | 2-4 April 2027
REFRESH-INTERVAL;VALUE=DURATION:PT1H
X-Robots-Tag:noindex
X-PUBLISHED-TTL:PT1H
BEGIN:VTIMEZONE
TZID:Australia/Melbourne
BEGIN:STANDARD
TZOFFSETFROM:+1100
TZOFFSETTO:+1000
TZNAME:AEST
DTSTART:20240406T160000
END:STANDARD
BEGIN:DAYLIGHT
TZOFFSETFROM:+1000
TZOFFSETTO:+1100
TZNAME:AEDT
DTSTART:20241005T160000
END:DAYLIGHT
END:VTIMEZONE
BEGIN:VEVENT
DTSTART;TZID=Australia/Melbourne:20240406T073000
DTEND;TZID=Australia/Melbourne:20240406T100000
DTSTAMP:20260426T004214
CREATED:20240405T001834Z
LAST-MODIFIED:20240405T001928Z
UID:10000109-1712388600-1712397600@cresfest.com.au
SUMMARY:Walk - with the Great Dividing Trail Association (paid event)
DESCRIPTION:
URL:https://cresfest.com.au/event/walk-with-the-great-dividing-trail-association-paid-event/
LOCATION:Creswick RSL\, 60 Albert Street\, Creswick\, VIC\, 3363\, Australia
CATEGORIES:CresFest 2024
GEO:-37.4232953;143.8949372
X-APPLE-STRUCTURED-LOCATION;VALUE=URI;X-ADDRESS=Creswick RSL 60 Albert Street Creswick VIC 3363 Australia;X-APPLE-RADIUS=500;X-TITLE=60 Albert Street:geo:143.8949372,-37.4232953
END:VEVENT
BEGIN:VEVENT
DTSTART;TZID=Australia/Melbourne:20240406T090000
DTEND;TZID=Australia/Melbourne:20240406T110000
DTSTAMP:20260426T004214
CREATED:20240312T020102Z
LAST-MODIFIED:20240331T223945Z
UID:10000048-1712394000-1712401200@cresfest.com.au
SUMMARY:ABC live broadcast with some of the stars of CresFest
DESCRIPTION:
URL:https://cresfest.com.au/event/abc-live-broadcast-with-some-of-the-stars-of-cresfest/
LOCATION:Creswick Town Hall\, 70 Albert St\, Creswick\, VIC\, 3363\, Australia
CATEGORIES:CresFest 2024,Free Event
GEO:-37.4240547;143.8950428
X-APPLE-STRUCTURED-LOCATION;VALUE=URI;X-ADDRESS=Creswick Town Hall 70 Albert St Creswick VIC 3363 Australia;X-APPLE-RADIUS=500;X-TITLE=70 Albert St:geo:143.8950428,-37.4240547
END:VEVENT
BEGIN:VEVENT
DTSTART;TZID=Australia/Melbourne:20240406T100000
DTEND;TZID=Australia/Melbourne:20240406T110000
DTSTAMP:20260426T004214
CREATED:20240331T225409Z
LAST-MODIFIED:20240331T225409Z
UID:10000083-1712397600-1712401200@cresfest.com.au
SUMMARY:Show: Ron Edwards his life\, stories and songs: Keith McKenry & Friends
DESCRIPTION:
URL:https://cresfest.com.au/event/show-ron-edwards-his-life-stories-and-songs-keith-mckenry-friends/
LOCATION:Creswick Courthouse Theatre\, 2 Raglan St\, Creswick\, VIC\, 3363\, Australia
CATEGORIES:CresFest 2024,Ticketed Event
GEO:-37.4250238;143.8932417
X-APPLE-STRUCTURED-LOCATION;VALUE=URI;X-ADDRESS=Creswick Courthouse Theatre 2 Raglan St Creswick VIC 3363 Australia;X-APPLE-RADIUS=500;X-TITLE=2 Raglan St:geo:143.8932417,-37.4250238
END:VEVENT
BEGIN:VEVENT
DTSTART;TZID=Australia/Melbourne:20240406T100000
DTEND;TZID=Australia/Melbourne:20240406T110000
DTSTAMP:20260426T004214
CREATED:20240405T002038Z
LAST-MODIFIED:20240405T002038Z
UID:10000110-1712397600-1712401200@cresfest.com.au
SUMMARY:Conrad Hamill: Meditative Soundscapes on cello
DESCRIPTION:
URL:https://cresfest.com.au/event/conrad-hamill-meditative-soundscapes-on-cello/
LOCATION:Creswick Havilah Lodge\, 96 Albert Street\, Creswick\, VIC\, 3363\, Australia
CATEGORIES:CresFest 2024,Instrumental Workshop/Rehearsal,Ticketed Event
GEO:-37.4254845;143.8944067
X-APPLE-STRUCTURED-LOCATION;VALUE=URI;X-ADDRESS=Creswick Havilah Lodge 96 Albert Street Creswick VIC 3363 Australia;X-APPLE-RADIUS=500;X-TITLE=96 Albert Street:geo:143.8944067,-37.4254845
END:VEVENT
BEGIN:VEVENT
DTSTART;TZID=Australia/Melbourne:20240406T100000
DTEND;TZID=Australia/Melbourne:20240406T114500
DTSTAMP:20260426T004214
CREATED:20240326T082637Z
LAST-MODIFIED:20240326T082637Z
UID:10000074-1712397600-1712403900@cresfest.com.au
SUMMARY:Out of Hand
DESCRIPTION:
URL:https://cresfest.com.au/event/out-of-hand-2/
LOCATION:Odessa at Leaver’s Hotel\, 80 Albert St\, Creswick\, VIC\, 3363\, Australia
CATEGORIES:CresFest 2024,Ticketed Event
GEO:-37.4243885;143.894867
X-APPLE-STRUCTURED-LOCATION;VALUE=URI;X-ADDRESS=Odessa at Leaver’s Hotel 80 Albert St Creswick VIC 3363 Australia;X-APPLE-RADIUS=500;X-TITLE=80 Albert St:geo:143.894867,-37.4243885
END:VEVENT
BEGIN:VEVENT
DTSTART;TZID=Australia/Melbourne:20240406T101500
DTEND;TZID=Australia/Melbourne:20240406T111500
DTSTAMP:20260426T004214
CREATED:20240314T022701Z
LAST-MODIFIED:20240320T033847Z
UID:10000055-1712398500-1712402100@cresfest.com.au
SUMMARY:The Gleaners
DESCRIPTION:
URL:https://cresfest.com.au/event/the-gleaners/
LOCATION:Senior Citizens Clubrooms\, Water Street\, Creswick\, Victoria\, 3363\, Australia
CATEGORIES:CresFest 2024,Ticketed Event
GEO:-37.4239457;143.8976271
X-APPLE-STRUCTURED-LOCATION;VALUE=URI;X-ADDRESS=Senior Citizens Clubrooms Water Street Creswick Victoria 3363 Australia;X-APPLE-RADIUS=500;X-TITLE=Water Street:geo:143.8976271,-37.4239457
END:VEVENT
BEGIN:VEVENT
DTSTART;TZID=Australia/Melbourne:20240406T103000
DTEND;TZID=Australia/Melbourne:20240406T113000
DTSTAMP:20260426T004214
CREATED:20240320T035421Z
LAST-MODIFIED:20240320T035421Z
UID:10000066-1712399400-1712403000@cresfest.com.au
SUMMARY:Nerida Cuddy
DESCRIPTION:
URL:https://cresfest.com.au/event/nerida-cuddy/
LOCATION:American Hotel\, 90 Albert Street\, Creswick\, Victoria\, 3363\, Australia
CATEGORIES:CresFest 2024,Ticketed Event
GEO:-37.4249581;143.8945515
X-APPLE-STRUCTURED-LOCATION;VALUE=URI;X-ADDRESS=American Hotel 90 Albert Street Creswick Victoria 3363 Australia;X-APPLE-RADIUS=500;X-TITLE=90 Albert Street:geo:143.8945515,-37.4249581
END:VEVENT
BEGIN:VEVENT
DTSTART;TZID=Australia/Melbourne:20240406T103000
DTEND;TZID=Australia/Melbourne:20240406T113000
DTSTAMP:20260426T004214
CREATED:20240404T234014Z
LAST-MODIFIED:20240404T234014Z
UID:10000092-1712399400-1712403000@cresfest.com.au
SUMMARY:Argentine Folk Dance with Guanaco Trio
DESCRIPTION:
URL:https://cresfest.com.au/event/argentine-folk-dance-with-guanaco-trio/
LOCATION:Wayapurra Hall (Creswick Neighbourhood Centre Hall)\, 19-21 Victoria Street\, Creswick\, VIC\, 3363\, Australia
CATEGORIES:CresFest 2024,Dance Workshop,Ticketed Event
ATTACH;FMTTYPE=image/jpeg:https://cresfest.com.au/wp-content/uploads/2023/10/Guanaco.jpg
GEO:-37.4221548;143.8920636
X-APPLE-STRUCTURED-LOCATION;VALUE=URI;X-ADDRESS=Wayapurra Hall (Creswick Neighbourhood Centre Hall) 19-21 Victoria Street Creswick VIC 3363 Australia;X-APPLE-RADIUS=500;X-TITLE=19-21 Victoria Street:geo:143.8920636,-37.4221548
END:VEVENT
BEGIN:VEVENT
DTSTART;TZID=Australia/Melbourne:20240406T103000
DTEND;TZID=Australia/Melbourne:20240406T114500
DTSTAMP:20260426T004214
CREATED:20240404T233818Z
LAST-MODIFIED:20240404T233818Z
UID:10000091-1712399400-1712403900@cresfest.com.au
SUMMARY:American Tunes with The Cherry Pickers
DESCRIPTION:
URL:https://cresfest.com.au/event/american-tunes-with-the-cherry-pickers/
LOCATION:American Hotel\, 90 Albert Street\, Creswick\, Victoria\, 3363\, Australia
CATEGORIES:CresFest 2024,Free Event
ATTACH;FMTTYPE=image/jpeg:https://cresfest.com.au/wp-content/uploads/2023/10/The-Cherry-Pickers.jpg
GEO:-37.4249581;143.8945515
X-APPLE-STRUCTURED-LOCATION;VALUE=URI;X-ADDRESS=American Hotel 90 Albert Street Creswick Victoria 3363 Australia;X-APPLE-RADIUS=500;X-TITLE=90 Albert Street:geo:143.8945515,-37.4249581
END:VEVENT
BEGIN:VEVENT
DTSTART;TZID=Australia/Melbourne:20240406T103000
DTEND;TZID=Australia/Melbourne:20240406T123000
DTSTAMP:20260426T004214
CREATED:20240331T225615Z
LAST-MODIFIED:20240331T225615Z
UID:10000084-1712399400-1712406600@cresfest.com.au
SUMMARY:Courthouse conversations 1: Trudy Fatnowna Edgeley – my music w. Cate Kennedy
DESCRIPTION:
URL:https://cresfest.com.au/event/courthouse-conversations-1-trudy-fatnowna-edgeley-my-music-w-cate-kennedy/
LOCATION:Creswick Courthouse Theatre\, 2 Raglan St\, Creswick\, VIC\, 3363\, Australia
CATEGORIES:CresFest 2024,Ticketed Event
GEO:-37.4250238;143.8932417
X-APPLE-STRUCTURED-LOCATION;VALUE=URI;X-ADDRESS=Creswick Courthouse Theatre 2 Raglan St Creswick VIC 3363 Australia;X-APPLE-RADIUS=500;X-TITLE=2 Raglan St:geo:143.8932417,-37.4250238
END:VEVENT
BEGIN:VEVENT
DTSTART;TZID=Australia/Melbourne:20240406T110000
DTEND;TZID=Australia/Melbourne:20240406T114500
DTSTAMP:20260426T004214
CREATED:20240326T082820Z
LAST-MODIFIED:20240326T082820Z
UID:10000075-1712401200-1712403900@cresfest.com.au
SUMMARY:Anousha Victoire
DESCRIPTION:
URL:https://cresfest.com.au/event/anousha-victoire/
LOCATION:Odessa at Leaver’s Hotel\, 80 Albert St\, Creswick\, VIC\, 3363\, Australia
CATEGORIES:CresFest 2024,Ticketed Event
GEO:-37.4243885;143.894867
X-APPLE-STRUCTURED-LOCATION;VALUE=URI;X-ADDRESS=Odessa at Leaver’s Hotel 80 Albert St Creswick VIC 3363 Australia;X-APPLE-RADIUS=500;X-TITLE=80 Albert St:geo:143.894867,-37.4243885
END:VEVENT
BEGIN:VEVENT
DTSTART;TZID=Australia/Melbourne:20240406T111500
DTEND;TZID=Australia/Melbourne:20240406T111500
DTSTAMP:20260426T004214
CREATED:20240312T222515Z
LAST-MODIFIED:20240312T222515Z
UID:10000049-1712402100-1712402100@cresfest.com.au
SUMMARY:Michael Waugh
DESCRIPTION:
URL:https://cresfest.com.au/event/michael-waugh/
LOCATION:Creswick Town Hall\, 70 Albert St\, Creswick\, VIC\, 3363\, Australia
CATEGORIES:CresFest 2024,Ticketed Event
GEO:-37.4240547;143.8950428
X-APPLE-STRUCTURED-LOCATION;VALUE=URI;X-ADDRESS=Creswick Town Hall 70 Albert St Creswick VIC 3363 Australia;X-APPLE-RADIUS=500;X-TITLE=70 Albert St:geo:143.8950428,-37.4240547
END:VEVENT
BEGIN:VEVENT
DTSTART;TZID=Australia/Melbourne:20240406T111500
DTEND;TZID=Australia/Melbourne:20240406T121500
DTSTAMP:20260426T004214
CREATED:20240405T002143Z
LAST-MODIFIED:20240405T002143Z
UID:10000111-1712402100-1712405700@cresfest.com.au
SUMMARY:Guy Ghouse: Guitar wizardry
DESCRIPTION:
URL:https://cresfest.com.au/event/guy-ghouse-guitar-wizardry/
LOCATION:Creswick Havilah Lodge\, 96 Albert Street\, Creswick\, VIC\, 3363\, Australia
CATEGORIES:CresFest 2024,Instrumental Workshop/Rehearsal,Ticketed Event
GEO:-37.4254845;143.8944067
X-APPLE-STRUCTURED-LOCATION;VALUE=URI;X-ADDRESS=Creswick Havilah Lodge 96 Albert Street Creswick VIC 3363 Australia;X-APPLE-RADIUS=500;X-TITLE=96 Albert Street:geo:143.8944067,-37.4254845
END:VEVENT
BEGIN:VEVENT
DTSTART;TZID=Australia/Melbourne:20240406T114500
DTEND;TZID=Australia/Melbourne:20240406T123000
DTSTAMP:20260426T004214
CREATED:20240314T023009Z
LAST-MODIFIED:20240401T212805Z
UID:10000056-1712403900-1712406600@cresfest.com.au
SUMMARY:The Creswick Ukestra
DESCRIPTION:
URL:https://cresfest.com.au/event/the-creswick-ukestra/
LOCATION:Senior Citizens Clubrooms\, Water Street\, Creswick\, Victoria\, 3363\, Australia
CATEGORIES:CresFest 2024,Ticketed Event
GEO:-37.4239457;143.8976271
X-APPLE-STRUCTURED-LOCATION;VALUE=URI;X-ADDRESS=Senior Citizens Clubrooms Water Street Creswick Victoria 3363 Australia;X-APPLE-RADIUS=500;X-TITLE=Water Street:geo:143.8976271,-37.4239457
END:VEVENT
BEGIN:VEVENT
DTSTART;TZID=Australia/Melbourne:20240406T120000
DTEND;TZID=Australia/Melbourne:20240406T130000
DTSTAMP:20260426T004214
CREATED:20240321T203833Z
LAST-MODIFIED:20240321T203833Z
UID:10000067-1712404800-1712408400@cresfest.com.au
SUMMARY:Super Rats
DESCRIPTION:
URL:https://cresfest.com.au/event/super-rats-2/
LOCATION:American Hotel\, 90 Albert Street\, Creswick\, Victoria\, 3363\, Australia
CATEGORIES:CresFest 2024,Ticketed Event
GEO:-37.4249581;143.8945515
X-APPLE-STRUCTURED-LOCATION;VALUE=URI;X-ADDRESS=American Hotel 90 Albert Street Creswick Victoria 3363 Australia;X-APPLE-RADIUS=500;X-TITLE=90 Albert Street:geo:143.8945515,-37.4249581
END:VEVENT
BEGIN:VEVENT
DTSTART;TZID=Australia/Melbourne:20240406T120000
DTEND;TZID=Australia/Melbourne:20240406T130000
DTSTAMP:20260426T004214
CREATED:20240326T083006Z
LAST-MODIFIED:20240326T083006Z
UID:10000076-1712404800-1712408400@cresfest.com.au
SUMMARY:Saoirse
DESCRIPTION:
URL:https://cresfest.com.au/event/saoirse-3/
LOCATION:Odessa at Leaver’s Hotel\, 80 Albert St\, Creswick\, VIC\, 3363\, Australia
CATEGORIES:CresFest 2024,Ticketed Event
GEO:-37.4243885;143.894867
X-APPLE-STRUCTURED-LOCATION;VALUE=URI;X-ADDRESS=Odessa at Leaver’s Hotel 80 Albert St Creswick VIC 3363 Australia;X-APPLE-RADIUS=500;X-TITLE=80 Albert St:geo:143.894867,-37.4243885
END:VEVENT
BEGIN:VEVENT
DTSTART;TZID=Australia/Melbourne:20240406T120000
DTEND;TZID=Australia/Melbourne:20240406T130000
DTSTAMP:20260426T004214
CREATED:20240404T234543Z
LAST-MODIFIED:20240404T234558Z
UID:10000094-1712404800-1712408400@cresfest.com.au
SUMMARY:All Folks Can Dance - with Audrey Klein
DESCRIPTION:
URL:https://cresfest.com.au/event/all-folks-can-dance-with-audrey-klein/
LOCATION:Wayapurra Hall (Creswick Neighbourhood Centre Hall)\, 19-21 Victoria Street\, Creswick\, VIC\, 3363\, Australia
CATEGORIES:CresFest 2024,Dance Workshop,Ticketed Event
GEO:-37.4221548;143.8920636
X-APPLE-STRUCTURED-LOCATION;VALUE=URI;X-ADDRESS=Wayapurra Hall (Creswick Neighbourhood Centre Hall) 19-21 Victoria Street Creswick VIC 3363 Australia;X-APPLE-RADIUS=500;X-TITLE=19-21 Victoria Street:geo:143.8920636,-37.4221548
END:VEVENT
BEGIN:VEVENT
DTSTART;TZID=Australia/Melbourne:20240406T120000
DTEND;TZID=Australia/Melbourne:20240406T131500
DTSTAMP:20260426T004214
CREATED:20240404T234318Z
LAST-MODIFIED:20240404T234318Z
UID:10000093-1712404800-1712409300@cresfest.com.au
SUMMARY:BYO original tune session with Kate Oleinikov
DESCRIPTION:
URL:https://cresfest.com.au/event/byo-original-tune-session-with-kate-oleinikov/
LOCATION:American Hotel\, 90 Albert Street\, Creswick\, Victoria\, 3363\, Australia
CATEGORIES:CresFest 2024,Free Event
GEO:-37.4249581;143.8945515
X-APPLE-STRUCTURED-LOCATION;VALUE=URI;X-ADDRESS=American Hotel 90 Albert Street Creswick Victoria 3363 Australia;X-APPLE-RADIUS=500;X-TITLE=90 Albert Street:geo:143.8945515,-37.4249581
END:VEVENT
BEGIN:VEVENT
DTSTART;TZID=Australia/Melbourne:20240406T123000
DTEND;TZID=Australia/Melbourne:20240406T133000
DTSTAMP:20260426T004214
CREATED:20240312T222716Z
LAST-MODIFIED:20240312T222716Z
UID:10000050-1712406600-1712410200@cresfest.com.au
SUMMARY:Archer & the Hepburn Players
DESCRIPTION:
URL:https://cresfest.com.au/event/archer-the-hepburn-players/
LOCATION:Creswick Town Hall\, 70 Albert St\, Creswick\, VIC\, 3363\, Australia
CATEGORIES:CresFest 2024,Ticketed Event
GEO:-37.4240547;143.8950428
X-APPLE-STRUCTURED-LOCATION;VALUE=URI;X-ADDRESS=Creswick Town Hall 70 Albert St Creswick VIC 3363 Australia;X-APPLE-RADIUS=500;X-TITLE=70 Albert St:geo:143.8950428,-37.4240547
END:VEVENT
BEGIN:VEVENT
DTSTART;TZID=Australia/Melbourne:20240406T123000
DTEND;TZID=Australia/Melbourne:20240406T133000
DTSTAMP:20260426T004214
CREATED:20240405T002243Z
LAST-MODIFIED:20240405T002243Z
UID:10000112-1712406600-1712410200@cresfest.com.au
SUMMARY:Fiona Ross & Christine Kydd: Scottish tradition bearers sing
DESCRIPTION:
URL:https://cresfest.com.au/event/fiona-ross-christine-kydd-scottish-tradition-bearers-sing/
LOCATION:Creswick Havilah Lodge\, 96 Albert Street\, Creswick\, VIC\, 3363\, Australia
CATEGORIES:CresFest 2024,Ticketed Event
GEO:-37.4254845;143.8944067
X-APPLE-STRUCTURED-LOCATION;VALUE=URI;X-ADDRESS=Creswick Havilah Lodge 96 Albert Street Creswick VIC 3363 Australia;X-APPLE-RADIUS=500;X-TITLE=96 Albert Street:geo:143.8944067,-37.4254845
END:VEVENT
BEGIN:VEVENT
DTSTART;TZID=Australia/Melbourne:20240406T124500
DTEND;TZID=Australia/Melbourne:20240406T134500
DTSTAMP:20260426T004214
CREATED:20240404T054123Z
LAST-MODIFIED:20240404T054123Z
UID:10000085-1712407500-1712411100@cresfest.com.au
SUMMARY:Courthouse Conversations 2: Learning from 1788 - Bill Gammage and Barry Golding
DESCRIPTION:
URL:https://cresfest.com.au/event/courthouse-conversations-2-learning-from-1788-bill-gammage-and-barry-golding/
LOCATION:Creswick Courthouse Theatre\, 2 Raglan St\, Creswick\, VIC\, 3363\, Australia
CATEGORIES:CresFest 2024,Ticketed Event
GEO:-37.4250238;143.8932417
X-APPLE-STRUCTURED-LOCATION;VALUE=URI;X-ADDRESS=Creswick Courthouse Theatre 2 Raglan St Creswick VIC 3363 Australia;X-APPLE-RADIUS=500;X-TITLE=2 Raglan St:geo:143.8932417,-37.4250238
END:VEVENT
BEGIN:VEVENT
DTSTART;TZID=Australia/Melbourne:20240406T130000
DTEND;TZID=Australia/Melbourne:20240406T140000
DTSTAMP:20260426T004214
CREATED:20240314T023122Z
LAST-MODIFIED:20240314T023122Z
UID:10000057-1712408400-1712412000@cresfest.com.au
SUMMARY:The Cherry Pickers
DESCRIPTION:
URL:https://cresfest.com.au/event/the-cherry-pickers-2/
LOCATION:Senior Citizens Clubrooms\, Water Street\, Creswick\, Victoria\, 3363\, Australia
CATEGORIES:CresFest 2024,Ticketed Event
GEO:-37.4239457;143.8976271
X-APPLE-STRUCTURED-LOCATION;VALUE=URI;X-ADDRESS=Senior Citizens Clubrooms Water Street Creswick Victoria 3363 Australia;X-APPLE-RADIUS=500;X-TITLE=Water Street:geo:143.8976271,-37.4239457
END:VEVENT
BEGIN:VEVENT
DTSTART;TZID=Australia/Melbourne:20240406T133000
DTEND;TZID=Australia/Melbourne:20240406T143000
DTSTAMP:20260426T004214
CREATED:20240321T204059Z
LAST-MODIFIED:20240321T204117Z
UID:10000068-1712410200-1712413800@cresfest.com.au
SUMMARY:AJ & Jenny
DESCRIPTION:
URL:https://cresfest.com.au/event/aj-jenny/
LOCATION:American Hotel\, 90 Albert Street\, Creswick\, Victoria\, 3363\, Australia
CATEGORIES:CresFest 2024,Ticketed Event
GEO:-37.4249581;143.8945515
X-APPLE-STRUCTURED-LOCATION;VALUE=URI;X-ADDRESS=American Hotel 90 Albert Street Creswick Victoria 3363 Australia;X-APPLE-RADIUS=500;X-TITLE=90 Albert Street:geo:143.8945515,-37.4249581
END:VEVENT
BEGIN:VEVENT
DTSTART;TZID=Australia/Melbourne:20240406T133000
DTEND;TZID=Australia/Melbourne:20240406T143000
DTSTAMP:20260426T004214
CREATED:20240326T083140Z
LAST-MODIFIED:20240326T083140Z
UID:10000077-1712410200-1712413800@cresfest.com.au
SUMMARY:Rhiz & the Sugarplums
DESCRIPTION:
URL:https://cresfest.com.au/event/rhiz-the-sugarplums-2/
LOCATION:Odessa at Leaver’s Hotel\, 80 Albert St\, Creswick\, VIC\, 3363\, Australia
CATEGORIES:CresFest 2024,Ticketed Event
GEO:-37.4243885;143.894867
X-APPLE-STRUCTURED-LOCATION;VALUE=URI;X-ADDRESS=Odessa at Leaver’s Hotel 80 Albert St Creswick VIC 3363 Australia;X-APPLE-RADIUS=500;X-TITLE=80 Albert St:geo:143.894867,-37.4243885
END:VEVENT
BEGIN:VEVENT
DTSTART;TZID=Australia/Melbourne:20240406T133000
DTEND;TZID=Australia/Melbourne:20240406T143000
DTSTAMP:20260426T004214
CREATED:20240404T234801Z
LAST-MODIFIED:20240404T234801Z
UID:10000095-1712410200-1712413800@cresfest.com.au
SUMMARY:Fiddle singing & foot stomping - with Richard Klein & Pria SK
DESCRIPTION:
URL:https://cresfest.com.au/event/fiddle-singing-foot-stomping-with-richard-klein-pria-sk/
LOCATION:American Hotel\, 90 Albert Street\, Creswick\, Victoria\, 3363\, Australia
CATEGORIES:CresFest 2024,Free Event
GEO:-37.4249581;143.8945515
X-APPLE-STRUCTURED-LOCATION;VALUE=URI;X-ADDRESS=American Hotel 90 Albert Street Creswick Victoria 3363 Australia;X-APPLE-RADIUS=500;X-TITLE=90 Albert Street:geo:143.8945515,-37.4249581
END:VEVENT
BEGIN:VEVENT
DTSTART;TZID=Australia/Melbourne:20240406T133000
DTEND;TZID=Australia/Melbourne:20240406T143000
DTSTAMP:20260426T004214
CREATED:20240404T234853Z
LAST-MODIFIED:20240404T234853Z
UID:10000096-1712410200-1712413800@cresfest.com.au
SUMMARY:Ballet with Natasha Middleton
DESCRIPTION:
URL:https://cresfest.com.au/event/ballet-with-natasha-middleton/
LOCATION:Wayapurra Hall (Creswick Neighbourhood Centre Hall)\, 19-21 Victoria Street\, Creswick\, VIC\, 3363\, Australia
CATEGORIES:CresFest 2024,Dance Workshop,Ticketed Event
GEO:-37.4221548;143.8920636
X-APPLE-STRUCTURED-LOCATION;VALUE=URI;X-ADDRESS=Wayapurra Hall (Creswick Neighbourhood Centre Hall) 19-21 Victoria Street Creswick VIC 3363 Australia;X-APPLE-RADIUS=500;X-TITLE=19-21 Victoria Street:geo:143.8920636,-37.4221548
END:VEVENT
BEGIN:VEVENT
DTSTART;TZID=Australia/Melbourne:20240406T134500
DTEND;TZID=Australia/Melbourne:20240406T141500
DTSTAMP:20260426T004214
CREATED:20240312T222952Z
LAST-MODIFIED:20240312T222952Z
UID:10000051-1712411100-1712412900@cresfest.com.au
SUMMARY:Out of Hand
DESCRIPTION:
URL:https://cresfest.com.au/event/out-of-hand/
LOCATION:Creswick Town Hall\, 70 Albert St\, Creswick\, VIC\, 3363\, Australia
CATEGORIES:CresFest 2024,Ticketed Event
GEO:-37.4240547;143.8950428
X-APPLE-STRUCTURED-LOCATION;VALUE=URI;X-ADDRESS=Creswick Town Hall 70 Albert St Creswick VIC 3363 Australia;X-APPLE-RADIUS=500;X-TITLE=70 Albert St:geo:143.8950428,-37.4240547
END:VEVENT
BEGIN:VEVENT
DTSTART;TZID=Australia/Melbourne:20240406T134500
DTEND;TZID=Australia/Melbourne:20240406T143000
DTSTAMP:20260426T004214
CREATED:20240405T002329Z
LAST-MODIFIED:20240405T002346Z
UID:10000113-1712411100-1712413800@cresfest.com.au
SUMMARY:Linn Phipps: Gaelic singing
DESCRIPTION:
URL:https://cresfest.com.au/event/linn-phipps-gaelic-singin/
LOCATION:Creswick Havilah Lodge\, 96 Albert Street\, Creswick\, VIC\, 3363\, Australia
CATEGORIES:CresFest 2024,Ticketed Event
GEO:-37.4254845;143.8944067
X-APPLE-STRUCTURED-LOCATION;VALUE=URI;X-ADDRESS=Creswick Havilah Lodge 96 Albert Street Creswick VIC 3363 Australia;X-APPLE-RADIUS=500;X-TITLE=96 Albert Street:geo:143.8944067,-37.4254845
END:VEVENT
BEGIN:VEVENT
DTSTART;TZID=Australia/Melbourne:20240406T140000
DTEND;TZID=Australia/Melbourne:20240406T150000
DTSTAMP:20260426T004214
CREATED:20240404T054322Z
LAST-MODIFIED:20240404T054322Z
UID:10000086-1712412000-1712415600@cresfest.com.au
SUMMARY:Courthouse Conversations 3: Gina Williams\, her life in language – w. James Freemantle
DESCRIPTION:
URL:https://cresfest.com.au/event/courthouse-conversations-3-gina-williams-her-life-in-language-w-james-freemantle/
LOCATION:Creswick Courthouse Theatre\, 2 Raglan St\, Creswick\, VIC\, 3363\, Australia
CATEGORIES:CresFest 2024,Ticketed Event
GEO:-37.4250238;143.8932417
X-APPLE-STRUCTURED-LOCATION;VALUE=URI;X-ADDRESS=Creswick Courthouse Theatre 2 Raglan St Creswick VIC 3363 Australia;X-APPLE-RADIUS=500;X-TITLE=2 Raglan St:geo:143.8932417,-37.4250238
END:VEVENT
BEGIN:VEVENT
DTSTART;TZID=Australia/Melbourne:20240406T143000
DTEND;TZID=Australia/Melbourne:20240406T153000
DTSTAMP:20260426T004214
CREATED:20240315T025045Z
LAST-MODIFIED:20240315T025045Z
UID:10000058-1712413800-1712417400@cresfest.com.au
SUMMARY:The John Flanagan Band
DESCRIPTION:
URL:https://cresfest.com.au/event/the-john-flanagan-band/
LOCATION:Senior Citizens Clubrooms\, Water Street\, Creswick\, Victoria\, 3363\, Australia
CATEGORIES:CresFest 2024,Ticketed Event
GEO:-37.4239457;143.8976271
X-APPLE-STRUCTURED-LOCATION;VALUE=URI;X-ADDRESS=Senior Citizens Clubrooms Water Street Creswick Victoria 3363 Australia;X-APPLE-RADIUS=500;X-TITLE=Water Street:geo:143.8976271,-37.4239457
END:VEVENT
END:VCALENDAR