BEGIN:VCALENDAR
VERSION:2.0
PRODID:-//CresFest | 2-4 April 2027 - ECPv6.10.2//NONSGML v1.0//EN
CALSCALE:GREGORIAN
METHOD:PUBLISH
X-ORIGINAL-URL:https://cresfest.com.au
X-WR-CALDESC:Events for CresFest | 2-4 April 2027
REFRESH-INTERVAL;VALUE=DURATION:PT1H
X-Robots-Tag:noindex
X-PUBLISHED-TTL:PT1H
BEGIN:VTIMEZONE
TZID:Australia/Melbourne
BEGIN:STANDARD
TZOFFSETFROM:+1100
TZOFFSETTO:+1000
TZNAME:AEST
DTSTART:20240406T160000
END:STANDARD
BEGIN:DAYLIGHT
TZOFFSETFROM:+1000
TZOFFSETTO:+1100
TZNAME:AEDT
DTSTART:20241005T160000
END:DAYLIGHT
END:VTIMEZONE
BEGIN:VEVENT
DTSTART;TZID=Australia/Melbourne:20240406T183000
DTEND;TZID=Australia/Melbourne:20240406T194500
DTSTAMP:20260426T011659
CREATED:20240404T235842Z
LAST-MODIFIED:20240404T235842Z
UID:10000102-1712428200-1712432700@cresfest.com.au
SUMMARY:Gypsy Jazz Jam with Jen and Alec
DESCRIPTION:
URL:https://cresfest.com.au/event/gypsy-jazz-jam-with-jen-and-alec/
LOCATION:American Hotel\, 90 Albert Street\, Creswick\, Victoria\, 3363\, Australia
CATEGORIES:CresFest 2024,Free Event
GEO:-37.4249581;143.8945515
X-APPLE-STRUCTURED-LOCATION;VALUE=URI;X-ADDRESS=American Hotel 90 Albert Street Creswick Victoria 3363 Australia;X-APPLE-RADIUS=500;X-TITLE=90 Albert Street:geo:143.8945515,-37.4249581
END:VEVENT
BEGIN:VEVENT
DTSTART;TZID=Australia/Melbourne:20240406T190000
DTEND;TZID=Australia/Melbourne:20240406T200000
DTSTAMP:20260426T011659
CREATED:20240326T004401Z
LAST-MODIFIED:20240326T004401Z
UID:10000071-1712430000-1712433600@cresfest.com.au
SUMMARY:Gina Williams & Guy Ghouse
DESCRIPTION:
URL:https://cresfest.com.au/event/gina-williams-guy-ghouse/
LOCATION:American Hotel\, 90 Albert Street\, Creswick\, Victoria\, 3363\, Australia
CATEGORIES:CresFest 2024,Ticketed Event
GEO:-37.4249581;143.8945515
X-APPLE-STRUCTURED-LOCATION;VALUE=URI;X-ADDRESS=American Hotel 90 Albert Street Creswick Victoria 3363 Australia;X-APPLE-RADIUS=500;X-TITLE=90 Albert Street:geo:143.8945515,-37.4249581
END:VEVENT
BEGIN:VEVENT
DTSTART;TZID=Australia/Melbourne:20240406T191500
DTEND;TZID=Australia/Melbourne:20240406T200000
DTSTAMP:20260426T011659
CREATED:20240320T034501Z
LAST-MODIFIED:20240320T034501Z
UID:10000063-1712430900-1712433600@cresfest.com.au
SUMMARY:Hana Zreikat
DESCRIPTION:
URL:https://cresfest.com.au/event/hana-zreikat-2/
LOCATION:Senior Citizens Clubrooms\, Water Street\, Creswick\, Victoria\, 3363\, Australia
CATEGORIES:CresFest 2024,Ticketed Event
GEO:-37.4239457;143.8976271
X-APPLE-STRUCTURED-LOCATION;VALUE=URI;X-ADDRESS=Senior Citizens Clubrooms Water Street Creswick Victoria 3363 Australia;X-APPLE-RADIUS=500;X-TITLE=Water Street:geo:143.8976271,-37.4239457
END:VEVENT
BEGIN:VEVENT
DTSTART;TZID=Australia/Melbourne:20240406T193000
DTEND;TZID=Australia/Melbourne:20240406T203000
DTSTAMP:20260426T011659
CREATED:20240319T045821Z
LAST-MODIFIED:20240319T045821Z
UID:10000060-1712431800-1712435400@cresfest.com.au
SUMMARY:Chutney
DESCRIPTION:
URL:https://cresfest.com.au/event/chutney/
LOCATION:Creswick Town Hall\, 70 Albert St\, Creswick\, VIC\, 3363\, Australia
CATEGORIES:CresFest 2024,Ticketed Event
GEO:-37.4240547;143.8950428
X-APPLE-STRUCTURED-LOCATION;VALUE=URI;X-ADDRESS=Creswick Town Hall 70 Albert St Creswick VIC 3363 Australia;X-APPLE-RADIUS=500;X-TITLE=70 Albert St:geo:143.8950428,-37.4240547
END:VEVENT
BEGIN:VEVENT
DTSTART;TZID=Australia/Melbourne:20240406T193000
DTEND;TZID=Australia/Melbourne:20240406T203000
DTSTAMP:20260426T011659
CREATED:20240405T000008Z
LAST-MODIFIED:20240405T000008Z
UID:10000103-1712431800-1712435400@cresfest.com.au
SUMMARY:Film: Chasing the Songs - Ian Turner & AL Lloyd | Lumsden Family
DESCRIPTION:
URL:https://cresfest.com.au/event/film-chasing-the-songs-ian-turner-al-lloyd-lumsden-family/
LOCATION:Creswick Courthouse Theatre\, 2 Raglan St\, Creswick\, VIC\, 3363\, Australia
CATEGORIES:CresFest 2024,Ticketed Event
GEO:-37.4250238;143.8932417
X-APPLE-STRUCTURED-LOCATION;VALUE=URI;X-ADDRESS=Creswick Courthouse Theatre 2 Raglan St Creswick VIC 3363 Australia;X-APPLE-RADIUS=500;X-TITLE=2 Raglan St:geo:143.8932417,-37.4250238
END:VEVENT
BEGIN:VEVENT
DTSTART;TZID=Australia/Melbourne:20240406T193000
DTEND;TZID=Australia/Melbourne:20240406T203000
DTSTAMP:20260426T011659
CREATED:20240405T002753Z
LAST-MODIFIED:20240405T002753Z
UID:10000117-1712431800-1712435400@cresfest.com.au
SUMMARY:Spooky Singalong: The Spooky Men’s Chorale
DESCRIPTION:
URL:https://cresfest.com.au/event/spooky-singalong-the-spooky-mens-chorale/
LOCATION:Creswick Havilah Lodge\, 96 Albert Street\, Creswick\, VIC\, 3363\, Australia
CATEGORIES:CresFest 2024,Instrumental Workshop/Rehearsal,Ticketed Event
GEO:-37.4254845;143.8944067
X-APPLE-STRUCTURED-LOCATION;VALUE=URI;X-ADDRESS=Creswick Havilah Lodge 96 Albert Street Creswick VIC 3363 Australia;X-APPLE-RADIUS=500;X-TITLE=96 Albert Street:geo:143.8944067,-37.4254845
END:VEVENT
BEGIN:VEVENT
DTSTART;TZID=Australia/Melbourne:20240406T200000
DTEND;TZID=Australia/Melbourne:20240406T210000
DTSTAMP:20260426T011659
CREATED:20240331T224108Z
LAST-MODIFIED:20240331T224653Z
UID:10000081-1712433600-1712437200@cresfest.com.au
SUMMARY:The John Flanagan Band
DESCRIPTION:
URL:https://cresfest.com.au/event/the-john-flanagan-band-2/
LOCATION:Odessa at Leaver’s Hotel\, 80 Albert St\, Creswick\, VIC\, 3363\, Australia
CATEGORIES:CresFest 2024,Ticketed Event
GEO:-37.4243885;143.894867
X-APPLE-STRUCTURED-LOCATION;VALUE=URI;X-ADDRESS=Odessa at Leaver’s Hotel 80 Albert St Creswick VIC 3363 Australia;X-APPLE-RADIUS=500;X-TITLE=80 Albert St:geo:143.894867,-37.4243885
END:VEVENT
BEGIN:VEVENT
DTSTART;TZID=Australia/Melbourne:20240406T200000
DTEND;TZID=Australia/Melbourne:20240406T210000
DTSTAMP:20260426T011659
CREATED:20240405T000117Z
LAST-MODIFIED:20240405T000117Z
UID:10000104-1712433600-1712437200@cresfest.com.au
SUMMARY:Singing Session: Australiana & ‘She Shanties’ with Broken Creek
DESCRIPTION:
URL:https://cresfest.com.au/event/singing-session-australiana-she-shanties-with-broken-creek/
LOCATION:American Hotel\, 90 Albert Street\, Creswick\, Victoria\, 3363\, Australia
CATEGORIES:CresFest 2024,Free Event
GEO:-37.4249581;143.8945515
X-APPLE-STRUCTURED-LOCATION;VALUE=URI;X-ADDRESS=American Hotel 90 Albert Street Creswick Victoria 3363 Australia;X-APPLE-RADIUS=500;X-TITLE=90 Albert Street:geo:143.8945515,-37.4249581
END:VEVENT
BEGIN:VEVENT
DTSTART;TZID=Australia/Melbourne:20240406T201500
DTEND;TZID=Australia/Melbourne:20240406T211500
DTSTAMP:20260426T011659
CREATED:20240320T034709Z
LAST-MODIFIED:20240320T034709Z
UID:10000064-1712434500-1712438100@cresfest.com.au
SUMMARY:Rhiz & The Sugarplums
DESCRIPTION:
URL:https://cresfest.com.au/event/rhiz-the-sugarplums/
LOCATION:Senior Citizens Clubrooms\, Water Street\, Creswick\, Victoria\, 3363\, Australia
CATEGORIES:CresFest 2024,Ticketed Event
GEO:-37.4239457;143.8976271
X-APPLE-STRUCTURED-LOCATION;VALUE=URI;X-ADDRESS=Senior Citizens Clubrooms Water Street Creswick Victoria 3363 Australia;X-APPLE-RADIUS=500;X-TITLE=Water Street:geo:143.8976271,-37.4239457
END:VEVENT
BEGIN:VEVENT
DTSTART;TZID=Australia/Melbourne:20240406T203000
DTEND;TZID=Australia/Melbourne:20240406T211500
DTSTAMP:20260426T011659
CREATED:20240326T004524Z
LAST-MODIFIED:20240326T004524Z
UID:10000072-1712435400-1712438100@cresfest.com.au
SUMMARY:Saoirse
DESCRIPTION:
URL:https://cresfest.com.au/event/saoirse-2/
LOCATION:American Hotel\, 90 Albert Street\, Creswick\, Victoria\, 3363\, Australia
CATEGORIES:CresFest 2024,Ticketed Event
GEO:-37.4249581;143.8945515
X-APPLE-STRUCTURED-LOCATION;VALUE=URI;X-ADDRESS=American Hotel 90 Albert Street Creswick Victoria 3363 Australia;X-APPLE-RADIUS=500;X-TITLE=90 Albert Street:geo:143.8945515,-37.4249581
END:VEVENT
BEGIN:VEVENT
DTSTART;TZID=Australia/Melbourne:20240406T203000
DTEND;TZID=Australia/Melbourne:20240406T220000
DTSTAMP:20260426T011659
CREATED:20240405T000300Z
LAST-MODIFIED:20240405T000300Z
UID:10000105-1712435400-1712440800@cresfest.com.au
SUMMARY:Best Dressed Bush Dance - wear your op shop finest!
DESCRIPTION:
URL:https://cresfest.com.au/event/best-dressed-bush-dance-wear-your-op-shop-finest/
LOCATION:Wayapurra Hall (Creswick Neighbourhood Centre Hall)\, 19-21 Victoria Street\, Creswick\, VIC\, 3363\, Australia
CATEGORIES:CresFest 2024,Dance Workshop,Ticketed Event
GEO:-37.4221548;143.8920636
X-APPLE-STRUCTURED-LOCATION;VALUE=URI;X-ADDRESS=Wayapurra Hall (Creswick Neighbourhood Centre Hall) 19-21 Victoria Street Creswick VIC 3363 Australia;X-APPLE-RADIUS=500;X-TITLE=19-21 Victoria Street:geo:143.8920636,-37.4221548
END:VEVENT
BEGIN:VEVENT
DTSTART;TZID=Australia/Melbourne:20240406T210000
DTEND;TZID=Australia/Melbourne:20240406T220000
DTSTAMP:20260426T011659
CREATED:20240319T050051Z
LAST-MODIFIED:20240320T033226Z
UID:10000061-1712437200-1712440800@cresfest.com.au
SUMMARY:T-Bone
DESCRIPTION:
URL:https://cresfest.com.au/event/t-bone-2/
LOCATION:Creswick Town Hall\, 70 Albert St\, Creswick\, VIC\, 3363\, Australia
CATEGORIES:CresFest 2024,Ticketed Event
GEO:-37.4240547;143.8950428
X-APPLE-STRUCTURED-LOCATION;VALUE=URI;X-ADDRESS=Creswick Town Hall 70 Albert St Creswick VIC 3363 Australia;X-APPLE-RADIUS=500;X-TITLE=70 Albert St:geo:143.8950428,-37.4240547
END:VEVENT
BEGIN:VEVENT
DTSTART;TZID=Australia/Melbourne:20240406T210000
DTEND;TZID=Australia/Melbourne:20240406T223000
DTSTAMP:20260426T011659
CREATED:20240405T000446Z
LAST-MODIFIED:20240405T000446Z
UID:10000107-1712437200-1712442600@cresfest.com.au
SUMMARY:Film: I’m Wanita - Introduced by Archer
DESCRIPTION:
URL:https://cresfest.com.au/event/film-im-wanita-introduced-by-archer/
LOCATION:Creswick Courthouse Theatre\, 2 Raglan St\, Creswick\, VIC\, 3363\, Australia
CATEGORIES:CresFest 2024,Ticketed Event
GEO:-37.4250238;143.8932417
X-APPLE-STRUCTURED-LOCATION;VALUE=URI;X-ADDRESS=Creswick Courthouse Theatre 2 Raglan St Creswick VIC 3363 Australia;X-APPLE-RADIUS=500;X-TITLE=2 Raglan St:geo:143.8932417,-37.4250238
END:VEVENT
BEGIN:VEVENT
DTSTART;TZID=Australia/Melbourne:20240406T211500
DTEND;TZID=Australia/Melbourne:20240406T221500
DTSTAMP:20260426T011659
CREATED:20240405T000352Z
LAST-MODIFIED:20240405T000352Z
UID:10000106-1712438100-1712441700@cresfest.com.au
SUMMARY:Eclectic Tunes session with Terry Cole and friend
DESCRIPTION:
URL:https://cresfest.com.au/event/eclectic-tunes-session-with-terry-cole-and-friend/
LOCATION:American Hotel\, 90 Albert Street\, Creswick\, Victoria\, 3363\, Australia
CATEGORIES:CresFest 2024,Free Event
GEO:-37.4249581;143.8945515
X-APPLE-STRUCTURED-LOCATION;VALUE=URI;X-ADDRESS=American Hotel 90 Albert Street Creswick Victoria 3363 Australia;X-APPLE-RADIUS=500;X-TITLE=90 Albert Street:geo:143.8945515,-37.4249581
END:VEVENT
BEGIN:VEVENT
DTSTART;TZID=Australia/Melbourne:20240406T213000
DTEND;TZID=Australia/Melbourne:20240406T223000
DTSTAMP:20260426T011659
CREATED:20240320T035023Z
LAST-MODIFIED:20240320T035023Z
UID:10000065-1712439000-1712442600@cresfest.com.au
SUMMARY:Mélisande
DESCRIPTION:
URL:https://cresfest.com.au/event/melisande-2/
LOCATION:Senior Citizens Clubrooms\, Water Street\, Creswick\, Victoria\, 3363\, Australia
CATEGORIES:CresFest 2024,Ticketed Event
GEO:-37.4239457;143.8976271
X-APPLE-STRUCTURED-LOCATION;VALUE=URI;X-ADDRESS=Senior Citizens Clubrooms Water Street Creswick Victoria 3363 Australia;X-APPLE-RADIUS=500;X-TITLE=Water Street:geo:143.8976271,-37.4239457
END:VEVENT
BEGIN:VEVENT
DTSTART;TZID=Australia/Melbourne:20240406T213000
DTEND;TZID=Australia/Melbourne:20240406T223000
DTSTAMP:20260426T011659
CREATED:20240331T224318Z
LAST-MODIFIED:20240331T224402Z
UID:10000082-1712439000-1712442600@cresfest.com.au
SUMMARY:Chantel’s Jam Session - Come Along & Sign up!
DESCRIPTION:
URL:https://cresfest.com.au/event/chantels-jam-session-come-along-sign-up/
LOCATION:Odessa at Leaver’s Hotel\, 80 Albert St\, Creswick\, VIC\, 3363\, Australia
CATEGORIES:CresFest 2024,Ticketed Event
GEO:-37.4243885;143.894867
X-APPLE-STRUCTURED-LOCATION;VALUE=URI;X-ADDRESS=Odessa at Leaver’s Hotel 80 Albert St Creswick VIC 3363 Australia;X-APPLE-RADIUS=500;X-TITLE=80 Albert St:geo:143.894867,-37.4243885
END:VEVENT
BEGIN:VEVENT
DTSTART;TZID=Australia/Melbourne:20240406T214500
DTEND;TZID=Australia/Melbourne:20240406T223000
DTSTAMP:20260426T011659
CREATED:20240326T004642Z
LAST-MODIFIED:20240326T004642Z
UID:10000073-1712439900-1712442600@cresfest.com.au
SUMMARY:Skiffle Party
DESCRIPTION:
URL:https://cresfest.com.au/event/skiffle-party-2/
LOCATION:American Hotel\, 90 Albert Street\, Creswick\, Victoria\, 3363\, Australia
CATEGORIES:CresFest 2024,Ticketed Event
GEO:-37.4249581;143.8945515
X-APPLE-STRUCTURED-LOCATION;VALUE=URI;X-ADDRESS=American Hotel 90 Albert Street Creswick Victoria 3363 Australia;X-APPLE-RADIUS=500;X-TITLE=90 Albert Street:geo:143.8945515,-37.4249581
END:VEVENT
BEGIN:VEVENT
DTSTART;TZID=Australia/Melbourne:20240406T223000
DTEND;TZID=Australia/Melbourne:20240407T000000
DTSTAMP:20260426T011659
CREATED:20240405T000615Z
LAST-MODIFIED:20240405T000615Z
UID:10000108-1712442600-1712448000@cresfest.com.au
SUMMARY:Wee Small Hours session with Neil Adam & Judy Turner
DESCRIPTION:
URL:https://cresfest.com.au/event/wee-small-hours-session-with-neil-adam-judy-turner/
LOCATION:American Hotel\, 90 Albert Street\, Creswick\, Victoria\, 3363\, Australia
CATEGORIES:CresFest 2024,Free Event
GEO:-37.4249581;143.8945515
X-APPLE-STRUCTURED-LOCATION;VALUE=URI;X-ADDRESS=American Hotel 90 Albert Street Creswick Victoria 3363 Australia;X-APPLE-RADIUS=500;X-TITLE=90 Albert Street:geo:143.8945515,-37.4249581
END:VEVENT
END:VCALENDAR